BEGIN:VCALENDAR
VERSION:2.0
PRODID:-//St. Mark&#039;s Church - ECPv6.15.20//NONSGML v1.0//EN
CALSCALE:GREGORIAN
METHOD:PUBLISH
X-WR-CALNAME:St. Mark&#039;s Church
X-ORIGINAL-URL:https://stmarkskorangi.org
X-WR-CALDESC:Events for St. Mark&#039;s Church
REFRESH-INTERVAL;VALUE=DURATION:PT1H
X-Robots-Tag:noindex
X-PUBLISHED-TTL:PT1H
BEGIN:VTIMEZONE
TZID:Asia/Karachi
BEGIN:STANDARD
TZOFFSETFROM:+0500
TZOFFSETTO:+0500
TZNAME:PKT
DTSTART:20240101T000000
END:STANDARD
END:VTIMEZONE
BEGIN:VEVENT
DTSTART;TZID=Asia/Karachi:20251224T220000
DTEND;TZID=Asia/Karachi:20251224T233000
DTSTAMP:20260424T011254
CREATED:20251224T110530Z
LAST-MODIFIED:20260205T162512Z
UID:3314-1766613600-1766619000@stmarkskorangi.org
SUMMARY:Christmas Midnight Service 2025
DESCRIPTION:Join us for a sacred and joyful Christmas Midnight Service as we worship Jesus with prayer\, song\, and the Word. See you there! \nEarnest Abindab
URL:https://stmarkskorangi.org/event/christmas-midnight-service-2025/
LOCATION:St. Mark’s Church\, St. Mark's Church\, Korangi\, Karachi\, 74900\, Pakistan
ATTACH;FMTTYPE=image/jpeg:https://stmarkskorangi.org/wp-content/uploads/2026/02/Christmas-Mid-Night-Service-2025.jpg
END:VEVENT
BEGIN:VEVENT
DTSTART;TZID=Asia/Karachi:20251225T120000
DTEND;TZID=Asia/Karachi:20251225T140000
DTSTAMP:20260424T011254
CREATED:20251224T112027Z
LAST-MODIFIED:20260205T162900Z
UID:3320-1766664000-1766671200@stmarkskorangi.org
SUMMARY:Christmas Service 2025
DESCRIPTION:We will gather to celebrate the hope and joy of Christ’s birth! Join us for worship\, love\, and Christmas blessings. \nEarnest Abindab
URL:https://stmarkskorangi.org/event/christmas-service-2025/
LOCATION:St. Mark’s Church\, St. Mark's Church\, Korangi\, Karachi\, 74900\, Pakistan
ATTACH;FMTTYPE=image/jpeg:https://stmarkskorangi.org/wp-content/uploads/2025/12/Christmas-SERVICE.jpg
END:VEVENT
BEGIN:VEVENT
DTSTART;TZID=Asia/Karachi:20251231T220000
DTEND;TZID=Asia/Karachi:20251231T233000
DTSTAMP:20260424T011254
CREATED:20251224T112527Z
LAST-MODIFIED:20260205T162700Z
UID:3322-1767218400-1767223800@stmarkskorangi.org
SUMMARY:New Year Midnight Service 2025
DESCRIPTION:Ring in the New Year with prayer and praise! Join us at midnight on December 31st as we seek God’s guidance and hope for the year ahead. \nEarnest Abindab
URL:https://stmarkskorangi.org/event/new-year-midnight-service-2025/
LOCATION:St. Mark’s Church\, St. Mark's Church\, Korangi\, Karachi\, 74900\, Pakistan
ATTACH;FMTTYPE=image/jpeg:https://stmarkskorangi.org/wp-content/uploads/2026/02/New-Year-Mid-Night-Service.jpg
END:VEVENT
END:VCALENDAR