BEGIN:VCALENDAR
VERSION:2.0
PRODID:-//St. Mark&#039;s Church - ECPv6.15.20//NONSGML v1.0//EN
CALSCALE:GREGORIAN
METHOD:PUBLISH
X-WR-CALNAME:St. Mark&#039;s Church
X-ORIGINAL-URL:https://stmarkskorangi.org
X-WR-CALDESC:Events for St. Mark&#039;s Church
REFRESH-INTERVAL;VALUE=DURATION:PT1H
X-Robots-Tag:noindex
X-PUBLISHED-TTL:PT1H
BEGIN:VTIMEZONE
TZID:Asia/Karachi
BEGIN:STANDARD
TZOFFSETFROM:+0500
TZOFFSETTO:+0500
TZNAME:PKT
DTSTART:20220101T000000
END:STANDARD
END:VTIMEZONE
BEGIN:VEVENT
DTSTART;TZID=Asia/Karachi:20241222T190000
DTEND;TZID=Asia/Karachi:20241222T220000
DTSTAMP:20260424T053152
CREATED:20241205T184048Z
LAST-MODIFIED:20241205T184048Z
UID:833-1734894000-1734904800@stmarkskorangi.org
SUMMARY:Christmas Carol Event 2024
DESCRIPTION:🎶✨ Join us for a joyful evening of song and celebration at our Christmas Carol event on December 22nd! Let’s come together to celebrate the true spirit of the season with music\, fellowship\, and love. Bring your family and friends for a night filled with warmth and cheer! 🌟🎄 \nEarnest Abindab
URL:https://stmarkskorangi.org/event/christmas-carol-event-2024/
LOCATION:St. Mark’s Church\, St. Mark's Church\, Korangi\, Karachi\, 74900\, Pakistan
ATTACH;FMTTYPE=image/jpeg:https://stmarkskorangi.org/wp-content/uploads/2024/12/Christmas-Carol-Celebration-Event.jpg
ORGANIZER;CN="St. Mark's Church":MAILTO:contact@stmarkskorangi.org
END:VEVENT
BEGIN:VEVENT
DTSTART;TZID=Asia/Karachi:20241221T190000
DTEND;TZID=Asia/Karachi:20241221T220000
DTSTAMP:20260424T053152
CREATED:20241205T184013Z
LAST-MODIFIED:20241205T184013Z
UID:831-1734807600-1734818400@stmarkskorangi.org
SUMMARY:Sunday School Christmas Program 2024
DESCRIPTION:🎄✨ Join us for a heartwarming Sunday School Christmas Program on December 21st! Let’s celebrate the joy of the season together as our children share their talents and the true spirit of Christmas. Mark your calendars and bring your family and friends! 🌟❤️ \nEarnest Abindab
URL:https://stmarkskorangi.org/event/sunday-school-christmas-program-2024/
LOCATION:St. Mark’s Church\, St. Mark's Church\, Korangi\, Karachi\, 74900\, Pakistan
ATTACH;FMTTYPE=image/jpeg:https://stmarkskorangi.org/wp-content/uploads/2024/12/Christmas-Sunday-School-2024.jpg
ORGANIZER;CN="St. Mark's Church":MAILTO:contact@stmarkskorangi.org
END:VEVENT
BEGIN:VEVENT
DTSTART;TZID=Asia/Karachi:20241208T100000
DTEND;TZID=Asia/Karachi:20241208T120000
DTSTAMP:20260424T053152
CREATED:20241205T183916Z
LAST-MODIFIED:20241205T183916Z
UID:830-1733652000-1733659200@stmarkskorangi.org
SUMMARY:White Gift Sunday 2024
DESCRIPTION:We are delighted to announce that our annual White Gift Sunday 🎁🙏 will take place on 0️⃣8️⃣ December\, at our church. Join us for a meaningful worship service\, we will be distributing the gifts that have been lovingly contributed by our congregation. Your presence and contributions will make a significant difference in the lives of deserving people. Anyone wishing to contribute could do this by bringing their donations. 🎁🙏 \nEarnest Abindab
URL:https://stmarkskorangi.org/event/white-gift-sunday-2024/
LOCATION:St. Mark’s Church\, St. Mark's Church\, Korangi\, Karachi\, 74900\, Pakistan
ATTACH;FMTTYPE=image/jpeg:https://stmarkskorangi.org/wp-content/uploads/2024/12/White-Gift-Sunday-2024.jpg
ORGANIZER;CN="St. Mark's Church":MAILTO:contact@stmarkskorangi.org
END:VEVENT
BEGIN:VEVENT
DTSTART;TZID=Asia/Karachi:20241113T190000
DTEND;TZID=Asia/Karachi:20241115T220000
DTSTAMP:20260424T053152
CREATED:20241103T095041Z
LAST-MODIFIED:20241103T095041Z
UID:824-1731524400-1731708000@stmarkskorangi.org
SUMMARY:32nd Annual Convention
DESCRIPTION:🌟 Join us for our 3️⃣2️⃣nd Annual Convention on November 13-15! 🌟 Join us as we explore the powerful theme of “Love of God and Service to Humanity.” Let’s come together in faith\, fellowship\, and inspiration. 🙏❤️ \nEarnest Abindab
URL:https://stmarkskorangi.org/event/32-annual-convention/
LOCATION:St. Mark’s Church\, St. Mark's Church\, Korangi\, Karachi\, 74900\, Pakistan
ATTACH;FMTTYPE=image/jpeg:https://stmarkskorangi.org/wp-content/uploads/2024/11/32nd-Annual-Convention.jpg
ORGANIZER;CN="St. Mark's Church":MAILTO:contact@stmarkskorangi.org
END:VEVENT
BEGIN:VEVENT
DTSTART;TZID=Asia/Karachi:20240711T160000
DTEND;TZID=Asia/Karachi:20240713T200000
DTSTAMP:20260424T053152
CREATED:20240626T172409Z
LAST-MODIFIED:20240626T172409Z
UID:812-1720713600-1720900800@stmarkskorangi.org
SUMMARY:St. Mark's Church - Summer Camp 2024
DESCRIPTION:St. Mark’s Church’s Sunday School Summer Camp is back in 2024 with even more fun\, faith\, and adventure. \nEarnest Abindab
URL:https://stmarkskorangi.org/event/st-marks-church-summer-camp-2024/
LOCATION:St. Mark’s Church\, St. Mark's Church\, Korangi\, Karachi\, 74900\, Pakistan
ATTACH;FMTTYPE=image/webp:https://stmarkskorangi.org/wp-content/uploads/2024/06/SUMMER-CAMP-2024-St-Marks-Church-Korangi.webp
END:VEVENT
BEGIN:VEVENT
DTSTART;TZID=Asia/Karachi:20240711T160000
DTEND;TZID=Asia/Karachi:20240713T200000
DTSTAMP:20260424T053152
CREATED:20240626T172017Z
LAST-MODIFIED:20240626T173411Z
UID:808-1720713600-1720900800@stmarkskorangi.org
SUMMARY:St. Nathaniel Church - Summer Camp 2024
DESCRIPTION:Mark your calendars! St. Nathaniel Church’s Sunday School is hosting an exciting summer camp in 2024. With engaging Bible lessons and fun activities\, this camp promises to be an enriching experience for all children. 🌟 \nEarnest Abindab
URL:https://stmarkskorangi.org/event/stnathanielchurchsummercamp2024/
LOCATION:St. Nathaniel Church\, Ilyas Goth\, Karachi\, Sindh\, 74900\, Pakistan
ATTACH;FMTTYPE=image/webp:https://stmarkskorangi.org/wp-content/uploads/2024/06/SUMMER-CAMP-2024-St-Nathaniel-Church-Ilyas-Goth.webp
END:VEVENT
BEGIN:VEVENT
DTSTART;VALUE=DATE:20240331
DTEND;VALUE=DATE:20240401
DTSTAMP:20260424T053152
CREATED:20240320T194301Z
LAST-MODIFIED:20240320T195037Z
UID:791-1711843200-1711929599@stmarkskorangi.org
SUMMARY:Easter Sunday Service
DESCRIPTION:Celebrate the joy of Easter with us on March 31st at 11:30 AM as we come together to rejoice in the resurrection of our Lord and Savior\, Jesus Christ. Join us for a special service filled with hope\, renewal\, and blessings. \nEarnest Abindab
URL:https://stmarkskorangi.org/event/easter-sunday-service/
ATTACH;FMTTYPE=image/jpeg:https://stmarkskorangi.org/wp-content/uploads/2024/03/Easter-Sunday-Service.jpg
ORGANIZER;CN="St. Mark's Church":MAILTO:contact@stmarkskorangi.org
END:VEVENT
BEGIN:VEVENT
DTSTART;VALUE=DATE:20240329
DTEND;VALUE=DATE:20240330
DTSTAMP:20260424T053152
CREATED:20240320T194120Z
LAST-MODIFIED:20240320T195056Z
UID:788-1711670400-1711756799@stmarkskorangi.org
SUMMARY:Good Friday Service
DESCRIPTION:Join us for a meaningful Good Friday service on March 29th at 11:30 AM as we gather to commemorate the crucifixion of our Lord Jesus Christ. Let us come together in prayer and reflection on this solemn day. \nEarnest Abindab
URL:https://stmarkskorangi.org/event/good-friday-service/
ATTACH;FMTTYPE=image/jpeg:https://stmarkskorangi.org/wp-content/uploads/2024/03/Good-Friday-Service.jpg
ORGANIZER;CN="St. Mark's Church":MAILTO:contact@stmarkskorangi.org
END:VEVENT
BEGIN:VEVENT
DTSTART;VALUE=DATE:20240328
DTEND;VALUE=DATE:20240329
DTSTAMP:20260424T053152
CREATED:20240320T193833Z
LAST-MODIFIED:20240320T194830Z
UID:786-1711584000-1711670399@stmarkskorangi.org
SUMMARY:Holy Thursday Service
DESCRIPTION:Join us for a sacred Holy Thursday service on March 28th at 5:30 PM as we gather to reflect\, pray\, and commemorate the Last Supper. All are welcome to join us in this meaningful observance. \nEarnest Abindab
URL:https://stmarkskorangi.org/event/holy-thursday-service/
ATTACH;FMTTYPE=image/jpeg:https://stmarkskorangi.org/wp-content/uploads/2024/03/Maundy-Thursday-Service.jpg
END:VEVENT
BEGIN:VEVENT
DTSTART;VALUE=DATE:20240324
DTEND;VALUE=DATE:20240325
DTSTAMP:20260424T053152
CREATED:20240320T193516Z
LAST-MODIFIED:20240320T193516Z
UID:780-1711238400-1711324799@stmarkskorangi.org
SUMMARY:Palm Sunday Service
DESCRIPTION:Join us for a special Palm Sunday service on March 24th at 4:00 PM\, followed by a rally! Let’s come together in faith and celebration. Come join us as we commemorate this special day together! \nEarnest Abindab
URL:https://stmarkskorangi.org/event/palm-sunday-service/
ATTACH;FMTTYPE=image/jpeg:https://stmarkskorangi.org/wp-content/uploads/2024/03/Palm-Sunday-Service.jpg
ORGANIZER;CN="St. Mark's Church":MAILTO:contact@stmarkskorangi.org
END:VEVENT
BEGIN:VEVENT
DTSTART;TZID=Asia/Karachi:20240101T120000
DTEND;TZID=Asia/Karachi:20240101T140000
DTSTAMP:20260424T053152
CREATED:20231211T072525Z
LAST-MODIFIED:20231211T072525Z
UID:772-1704110400-1704117600@stmarkskorangi.org
SUMMARY:New Year Church Service
DESCRIPTION:Ring in the New Year with faith\, hope\, and love at our church Service on December 1st at 12:00 PM. Join us as we come together to reflect on the year gone by\, express gratitude for blessings received\, and set our intentions for the coming year. Let us embrace the opportunity to start afresh\, with renewed spirits and a deep sense of purpose. We look forward to welcoming you to this meaningful service as we embark on a journey of new beginnings together. Happy New Year! \nEarnest Abindab
URL:https://stmarkskorangi.org/event/new-year-church-service/
LOCATION:St. Mark’s Church\, St. Mark's Church\, Korangi\, Karachi\, 74900\, Pakistan
ATTACH;FMTTYPE=image/jpeg:https://stmarkskorangi.org/wp-content/uploads/2023/12/New-Year-Service.jpg
ORGANIZER;CN="St. Mark's Church":MAILTO:contact@stmarkskorangi.org
END:VEVENT
BEGIN:VEVENT
DTSTART;TZID=Asia/Karachi:20231231T230000
DTEND;TZID=Asia/Karachi:20240101T130000
DTSTAMP:20260424T053152
CREATED:20231211T072209Z
LAST-MODIFIED:20231211T073000Z
UID:770-1704063600-1704114000@stmarkskorangi.org
SUMMARY:New Year Midnight Service
DESCRIPTION:Ring in the New Year with faith\, hope\, and love at our special Midnight Service on December 31st at 11:00 PM. Join us as we come together to reflect on the year gone by\, express gratitude for blessings received\, and set our intentions for the coming year. Let us embrace the opportunity to start afresh\, with renewed spirits and a deep sense of purpose. We look forward to welcoming you to this meaningful service as we embark on a journey of new beginnings together. Happy New Year! \nEarnest Abindab
URL:https://stmarkskorangi.org/event/new-year-midnight-service/
LOCATION:St. Mark’s Church\, St. Mark's Church\, Korangi\, Karachi\, 74900\, Pakistan
ATTACH;FMTTYPE=image/jpeg:https://stmarkskorangi.org/wp-content/uploads/2023/12/New-Year-Midnight-Service.jpg
ORGANIZER;CN="St. Mark's Church":MAILTO:contact@stmarkskorangi.org
END:VEVENT
BEGIN:VEVENT
DTSTART;TZID=Asia/Karachi:20231225T120000
DTEND;TZID=Asia/Karachi:20231225T140000
DTSTAMP:20260424T053152
CREATED:20231211T071914Z
LAST-MODIFIED:20231211T072918Z
UID:768-1703505600-1703512800@stmarkskorangi.org
SUMMARY:Christmas Church Service
DESCRIPTION:We invite you all to our Christmas Church Service on December 25th at 12:00 PM. Join us as we gather in reverence and celebration to commemorate the birth of Jesus Christ. This cherished tradition is a time of reflection\, gratitude\, and hope as we welcome the true meaning of Christmas. Come and experience the serenity and joy of this special service with your church community. Wishing you a blessed and Merry Christmas! \nEarnest Abindab
URL:https://stmarkskorangi.org/event/christmas-church-service/
LOCATION:St. Mark’s Church\, St. Mark's Church\, Korangi\, Karachi\, 74900\, Pakistan
ATTACH;FMTTYPE=image/jpeg:https://stmarkskorangi.org/wp-content/uploads/2023/12/Christmas-Service.jpg
ORGANIZER;CN="St. Mark's Church":MAILTO:contact@stmarkskorangi.org
END:VEVENT
BEGIN:VEVENT
DTSTART;TZID=Asia/Karachi:20231224T230000
DTEND;TZID=Asia/Karachi:20231225T010000
DTSTAMP:20260424T053152
CREATED:20231211T071449Z
LAST-MODIFIED:20231211T072855Z
UID:766-1703458800-1703466000@stmarkskorangi.org
SUMMARY:Christmas Midnight Service
DESCRIPTION:We are thrilled to invite you to our annual Christmas Midnight Service on December 24th at 11:00 PM. Join us as we gather in reverence and celebration to commemorate the birth of Jesus Christ. This cherished tradition is a time of reflection\, gratitude\, and hope as we welcome the true meaning of Christmas. Come and experience the serenity and joy of this special service with your church community. \nEarnest Abindab
URL:https://stmarkskorangi.org/event/christmas-midnight-service/
LOCATION:St. Mark’s Church\, St. Mark's Church\, Korangi\, Karachi\, 74900\, Pakistan
ATTACH;FMTTYPE=image/jpeg:https://stmarkskorangi.org/wp-content/uploads/2023/12/Christmas-Midnight-Service.jpg
ORGANIZER;CN="St. Mark's Church":MAILTO:contact@stmarkskorangi.org
END:VEVENT
BEGIN:VEVENT
DTSTART;TZID=Asia/Karachi:20231221T180000
DTEND;TZID=Asia/Karachi:20231221T210000
DTSTAMP:20260424T053152
CREATED:20231211T071108Z
LAST-MODIFIED:20231211T072837Z
UID:764-1703181600-1703192400@stmarkskorangi.org
SUMMARY:Sunday School Christmas Program
DESCRIPTION:We are delighted to announce that our Church Sunday school is hosting its annual Christmas Program on December 21st\, Thursday. Get ready to witness an enchanting showcase of performances\, skits\, and heartwarming presentations by our talented Sunday school students. Let’s come together to celebrate the joy and wonder of the Christmas season. Mark your calendars and join us for an unforgettable evening of love\, laughter\, and festive cheer! \nEarnest Abindab
URL:https://stmarkskorangi.org/event/sunday-school-christmas-program/
LOCATION:St. Mark’s Church\, St. Mark's Church\, Korangi\, Karachi\, 74900\, Pakistan
ATTACH;FMTTYPE=image/jpeg:https://stmarkskorangi.org/wp-content/uploads/2023/12/Sunday-School-Christmas-Program.jpg
ORGANIZER;CN="St. Mark's Church":MAILTO:contact@stmarkskorangi.org
END:VEVENT
BEGIN:VEVENT
DTSTART;TZID=Asia/Karachi:20231219T180000
DTEND;TZID=Asia/Karachi:20231219T210000
DTSTAMP:20260424T053152
CREATED:20231211T070804Z
LAST-MODIFIED:20231211T072728Z
UID:762-1703008800-1703019600@stmarkskorangi.org
SUMMARY:Christmas Family Carol Service
DESCRIPTION:We are excited to announce our upcoming Family Christmas Carol Service on December 19th at 06:00 PM. Join us for a festive evening filled with beautiful carols\, heartwarming messages\, and joyful celebrations. Bring your loved ones and experience the true spirit of Christmas together. Let’s create unforgettable memories and rejoice in the love and joy that this season brings. \nEarnest Abindab
URL:https://stmarkskorangi.org/event/christmas-family-carol-service/
LOCATION:St. Mark’s Church\, St. Mark's Church\, Korangi\, Karachi\, 74900\, Pakistan
ATTACH;FMTTYPE=image/jpeg:https://stmarkskorangi.org/wp-content/uploads/2023/12/Christmas-Family-Carol-Service.jpg
ORGANIZER;CN="St. Mark's Church":MAILTO:contact@stmarkskorangi.org
END:VEVENT
BEGIN:VEVENT
DTSTART;TZID=Asia/Karachi:20231213T180000
DTEND;TZID=Asia/Karachi:20231213T200000
DTSTAMP:20260424T053152
CREATED:20231211T070210Z
LAST-MODIFIED:20231211T072654Z
UID:753-1702490400-1702497600@stmarkskorangi.org
SUMMARY:White Gift Service
DESCRIPTION:We are thrilled to invite you to our cherished annual White Gift Service on December 14\, 2022\, at our church. Following a heartfelt worship service\, we will be distributing the gifts that have been lovingly contributed by our congregation to help those in need. Let’s come together as a community to bring joy and support to the deserving individuals in our midst. Your presence and generosity will make this event truly special. Join us in spreading love and compassion this holiday season! \nEarnest Abindab
URL:https://stmarkskorangi.org/event/white-gift-service/
LOCATION:St. Mark’s Church\, St. Mark's Church\, Korangi\, Karachi\, 74900\, Pakistan
ATTACH;FMTTYPE=image/jpeg:https://stmarkskorangi.org/wp-content/uploads/2023/12/Christmas-White-Gift-Service-e1702278100890.jpg
ORGANIZER;CN="St. Mark's Church":MAILTO:contact@stmarkskorangi.org
END:VEVENT
BEGIN:VEVENT
DTSTART;TZID=Asia/Karachi:20231122T190000
DTEND;TZID=Asia/Karachi:20231124T220000
DTSTAMP:20260424T053152
CREATED:20231030T040642Z
LAST-MODIFIED:20231122T051304Z
UID:746-1700679600-1700863200@stmarkskorangi.org
SUMMARY:Annual Convention
DESCRIPTION:31st 3-Day Annual Convention \nEarnest Abindab
URL:https://stmarkskorangi.org/event/annual-convention/
ATTACH;FMTTYPE=image/jpeg:https://stmarkskorangi.org/wp-content/uploads/2023/10/31st-3-Day-Annual-Convention.jpg
ORGANIZER;CN="St. Mark's Church":MAILTO:contact@stmarkskorangi.org
END:VEVENT
BEGIN:VEVENT
DTSTART;VALUE=DATE:20230814
DTEND;VALUE=DATE:20230815
DTSTAMP:20260424T053152
CREATED:20230728T075842Z
LAST-MODIFIED:20230728T075842Z
UID:642-1691971200-1692057599@stmarkskorangi.org
SUMMARY:Independence Day of Pakistan
DESCRIPTION:76th Independence Day of Pakistan \nEarnest Abindab
URL:https://stmarkskorangi.org/event/independence-day-of-pakistan/
LOCATION:St. Mark’s Church\, St. Mark's Church\, Korangi\, Karachi\, 74900\, Pakistan
ATTACH;FMTTYPE=image/jpeg:https://stmarkskorangi.org/wp-content/uploads/2023/07/Pakistan-Independence-Day.jpg
ORGANIZER;CN="St. Mark's Church":MAILTO:contact@stmarkskorangi.org
END:VEVENT
END:VCALENDAR