BEGIN:VCALENDAR
VERSION:2.0
PRODID:-//St. Mark&#039;s Church - ECPv6.15.20//NONSGML v1.0//EN
CALSCALE:GREGORIAN
METHOD:PUBLISH
X-WR-CALNAME:St. Mark&#039;s Church
X-ORIGINAL-URL:https://stmarkskorangi.org
X-WR-CALDESC:Events for St. Mark&#039;s Church
REFRESH-INTERVAL;VALUE=DURATION:PT1H
X-Robots-Tag:noindex
X-PUBLISHED-TTL:PT1H
BEGIN:VTIMEZONE
TZID:Asia/Karachi
BEGIN:STANDARD
TZOFFSETFROM:+0500
TZOFFSETTO:+0500
TZNAME:PKT
DTSTART:20250101T000000
END:STANDARD
END:VTIMEZONE
BEGIN:VEVENT
DTSTART;TZID=Asia/Karachi:20260218T170000
DTEND;TZID=Asia/Karachi:20260218T190000
DTSTAMP:20260423T234153
CREATED:20260217T163449Z
LAST-MODIFIED:20260217T163449Z
UID:3515-1771434000-1771441200@stmarkskorangi.org
SUMMARY:Ash Wednesday Service 2026
DESCRIPTION:Join us for Ash Wednesday Service as we receive the sign of the cross\, ashes\, and a call to turn toward God. ‘Remember\, you are dust\, and to dust you shall return… and yet\, you are beloved.’ \nEarnest Abindab
URL:https://stmarkskorangi.org/event/ash-wednesday-service-2026/
LOCATION:St. Mark’s Church\, St. Mark's Church\, Korangi\, Karachi\, 74900\, Pakistan
ATTACH;FMTTYPE=image/jpeg:https://stmarkskorangi.org/wp-content/uploads/2026/02/Ash-Wednesday-Service-2026.jpg
END:VEVENT
END:VCALENDAR