BEGIN:VCALENDAR
VERSION:2.0
PRODID:-//St. Mark&#039;s Church - ECPv6.15.20//NONSGML v1.0//EN
CALSCALE:GREGORIAN
METHOD:PUBLISH
X-ORIGINAL-URL:https://stmarkskorangi.org
X-WR-CALDESC:Events for St. Mark&#039;s Church
REFRESH-INTERVAL;VALUE=DURATION:PT1H
X-Robots-Tag:noindex
X-PUBLISHED-TTL:PT1H
BEGIN:VTIMEZONE
TZID:Asia/Karachi
BEGIN:STANDARD
TZOFFSETFROM:+0500
TZOFFSETTO:+0500
TZNAME:PKT
DTSTART:20250101T000000
END:STANDARD
END:VTIMEZONE
BEGIN:VEVENT
DTSTART;TZID=Asia/Karachi:20260215T100000
DTEND;TZID=Asia/Karachi:20260215T120000
DTSTAMP:20260423T234342
CREATED:20260206T161135Z
LAST-MODIFIED:20260206T161135Z
UID:3489-1771149600-1771156800@stmarkskorangi.org
SUMMARY:Confirmation Sunday 2026
DESCRIPTION:Join us for a blessed Confirmation Sunday on February 15th! We are honored to welcome Bishop Fredrick John to our church to confirm and affirm our confirmands. Let us come together in worship and celebration as we witness these special moments of faith. \nEarnest Abindab
URL:https://stmarkskorangi.org/event/confirmation-sunday-2026/
LOCATION:St. Mark’s Church\, St. Mark's Church\, Korangi\, Karachi\, 74900\, Pakistan
ATTACH;FMTTYPE=image/jpeg:https://stmarkskorangi.org/wp-content/uploads/2026/02/confirmation-sunday-2026.jpg
END:VEVENT
END:VCALENDAR